BEGIN:VCALENDAR
VERSION:2.0
PRODID:-//ical.marudot.com//iCal Event Maker
CALSCALE:GREGORIAN
BEGIN:VTIMEZONE
TZID:Asia/Dubai
LAST-MODIFIED:20201011T015911Z
TZURL:http://tzurl.org/zoneinfo-outlook/Asia/Dubai
X-LIC-LOCATION:Asia/Dubai
BEGIN:STANDARD
TZNAME:+04
TZOFFSETFROM:+0400
TZOFFSETTO:+0400
DTSTART:19700101T000000
END:STANDARD
END:VTIMEZONE
BEGIN:VEVENT
DTSTAMP:20220210T094440Z
UID:1644486246077-52642@ical.marudot.com
DTSTART;TZID=Asia/Dubai:20251111T100000
DTEND;TZID=Asia/Dubai:20251112T180000
SUMMARY:OFSEC - Oman Fire\, Safety & Security Summit and Expo
URL:https://www.ofsecevent.com
DESCRIPTION:OFSEC 2025 will bring together local and international participants who will showcase their avant-garde solutions\, specific transverse and latest technologies\, cutting edge innovations\, cost-effective products and services to meet the requirements of governments\, businesses\, industrial & commercial entities\, aviation\, construction\, infrastructure\, transportation\, manufacturing\, oil and gas and utilities sectors.\n\nWebsite: https://www.ofsecevent.com/
LOCATION:Oman Convention & Exhibition Centre
END:VEVENT
END:VCALENDAR